BEGIN:VCALENDAR
VERSION:2.0
PRODID:-//Galleri Hantverket - ECPv6.15.12.2//NONSGML v1.0//EN
CALSCALE:GREGORIAN
METHOD:PUBLISH
X-WR-CALNAME:Galleri Hantverket
X-ORIGINAL-URL:https://gallerihantverket.se
X-WR-CALDESC:Händelser för Galleri Hantverket
REFRESH-INTERVAL;VALUE=DURATION:PT1H
X-Robots-Tag:noindex
X-PUBLISHED-TTL:PT1H
BEGIN:VTIMEZONE
TZID:Europe/Stockholm
BEGIN:DAYLIGHT
TZOFFSETFROM:+0100
TZOFFSETTO:+0200
TZNAME:CEST
DTSTART:20250330T010000
END:DAYLIGHT
BEGIN:STANDARD
TZOFFSETFROM:+0200
TZOFFSETTO:+0100
TZNAME:CET
DTSTART:20251026T010000
END:STANDARD
BEGIN:DAYLIGHT
TZOFFSETFROM:+0100
TZOFFSETTO:+0200
TZNAME:CEST
DTSTART:20260329T010000
END:DAYLIGHT
BEGIN:STANDARD
TZOFFSETFROM:+0200
TZOFFSETTO:+0100
TZNAME:CET
DTSTART:20261025T010000
END:STANDARD
BEGIN:DAYLIGHT
TZOFFSETFROM:+0100
TZOFFSETTO:+0200
TZNAME:CEST
DTSTART:20270328T010000
END:DAYLIGHT
BEGIN:STANDARD
TZOFFSETFROM:+0200
TZOFFSETTO:+0100
TZNAME:CET
DTSTART:20271031T010000
END:STANDARD
END:VTIMEZONE
BEGIN:VEVENT
DTSTART;TZID=Europe/Stockholm:20260418T110000
DTEND;TZID=Europe/Stockholm:20260507T180000
DTSTAMP:20260424T015338
CREATED:20260228T121154Z
LAST-MODIFIED:20260312T162933Z
UID:10000112-1776510000-1778176800@gallerihantverket.se
SUMMARY:Glaskonst - Mira Davida
DESCRIPTION:Naturimage – Imaginature\nStig in i ett stilleben av naturens många ansikten\, där kristalliserade organismer befolkar landskapet. Denna utställning med konstnärliga glasskulpturer utforskar hur naturen översätts genom människans blick – hur vi omformar vår omgivning\, flora och fauna\, till unika men livlösa gestalter\, där vi själva blir skaparna som ger dem mening och en känsla av liv.\nHybridiska och fantasifulla former i glas växer fram genom tekniker som flameworking och glasblåsning. Dessa är bland de mest direkta metoderna där mötet uppstår mellan det orörbara\, glödande smälta glaset och den mänskliga handen som formar det. \nKonstnärspresentation\nUpptäck hemligheterna bakom arbetet med hett glas – såsom flameworking och glasblåsning – genom glasartisten Mira Davidas ögon\, som för närvarande ställer ut naturinspirerade glasverk på Galleri Hantverket.\nHennes mångkulturella resa och erfarenheter från möten med inspirerande konstnärer har format ett budskap om personlig utveckling genom reflekterande och hantverksbaserad praktik. Genom sitt arbete förmedlar hon ett perspektiv på samtida konsthantverk som handlar om att hantera osäkerhet – under det envisa glasmaterialets mästerskap – och att möta nya och unika utmaningar i en ständigt föränderlig och slingrande konstvärld.
URL:https://gallerihantverket.se/event/glaskonst-mira-davida/
CATEGORIES:Exhibitions
ATTACH;FMTTYPE=image/jpeg:https://gallerihantverket.se/wp-content/uploads/2026/02/Vernissagekort-Mira-Davida.jpg
END:VEVENT
END:VCALENDAR