BEGIN:VCALENDAR
VERSION:2.0
PRODID:-//Galleri Hantverket - ECPv6.15.12.2//NONSGML v1.0//EN
CALSCALE:GREGORIAN
METHOD:PUBLISH
X-WR-CALNAME:Galleri Hantverket
X-ORIGINAL-URL:https://gallerihantverket.se
X-WR-CALDESC:Händelser för Galleri Hantverket
REFRESH-INTERVAL;VALUE=DURATION:PT1H
X-Robots-Tag:noindex
X-PUBLISHED-TTL:PT1H
BEGIN:VTIMEZONE
TZID:Europe/Stockholm
BEGIN:DAYLIGHT
TZOFFSETFROM:+0100
TZOFFSETTO:+0200
TZNAME:CEST
DTSTART:20170326T010000
END:DAYLIGHT
BEGIN:STANDARD
TZOFFSETFROM:+0200
TZOFFSETTO:+0100
TZNAME:CET
DTSTART:20171029T010000
END:STANDARD
BEGIN:DAYLIGHT
TZOFFSETFROM:+0100
TZOFFSETTO:+0200
TZNAME:CEST
DTSTART:20180325T010000
END:DAYLIGHT
BEGIN:STANDARD
TZOFFSETFROM:+0200
TZOFFSETTO:+0100
TZNAME:CET
DTSTART:20181028T010000
END:STANDARD
BEGIN:DAYLIGHT
TZOFFSETFROM:+0100
TZOFFSETTO:+0200
TZNAME:CEST
DTSTART:20190331T010000
END:DAYLIGHT
BEGIN:STANDARD
TZOFFSETFROM:+0200
TZOFFSETTO:+0100
TZNAME:CET
DTSTART:20191027T010000
END:STANDARD
END:VTIMEZONE
BEGIN:VEVENT
DTSTART;TZID=Europe/Stockholm:20181103T110000
DTEND;TZID=Europe/Stockholm:20181122T180000
DTSTAMP:20260424T164421
CREATED:20181001T124213Z
LAST-MODIFIED:20181004T144920Z
UID:10000027-1541242800-1542909600@gallerihantverket.se
SUMMARY:Elisabet Linna Persson
DESCRIPTION:Elisabet Linna Persson\, född 1958 \nElisabet är bildkonstnär i Luleå och jobbar med måleri\, grafik\, emalj och glaskonst. Hon har ställt ut på ett stort antal gallerier och konsthallar både inom- och utomlands. \nfoto: Elisabet Linna Persson\nHon vill att hennes konst ska förmedla glädje !\nHennes konst är föreställande men inte realistisk.\nBetraktare upplever ofta att konsten är omedelbar och väcker känslor. Hennes bilder är berättande och sparsamma med detaljer.\nHon skapar i kreativ tystnad för att kunna tänka många ostörda tankar. Människors och djurs kroppspråk och det som förmedlas utan ord inspirerar henne. Att döpa konstverken är en del av skapande processen. Titlarna förstärker bildernas uttryck.\nHon vill att konsten är begriplig och tycker om att ta del av vad andra ser i hennes bildvärld \nfoto: Elisabet Linna Persson\n”Konst och kultur kommer ofta ur nationella sammanhang och Elisabet finner inspiration i sitt vardagsliv och sin omgivning hemma i svenska Lappland. Trots detta lyckas hon överskrida gränser och föra fram universella idéer med sina konstverk”\nSarah W\, curator USA \nCV\nwww.elisabetpersson.se
URL:https://gallerihantverket.se/event/elisabet-linna-persson/
CATEGORIES:Exhibitions
ATTACH;FMTTYPE=image/jpeg:https://gallerihantverket.se/wp-content/uploads/2018/11/Vad-anser-du-om-det-politiska-läget_-scaled.jpg
END:VEVENT
END:VCALENDAR