BEGIN:VCALENDAR
VERSION:2.0
PRODID:-//Galleri Hantverket - ECPv6.15.12.2//NONSGML v1.0//EN
CALSCALE:GREGORIAN
METHOD:PUBLISH
X-WR-CALNAME:Galleri Hantverket
X-ORIGINAL-URL:https://gallerihantverket.se
X-WR-CALDESC:Händelser för Galleri Hantverket
REFRESH-INTERVAL;VALUE=DURATION:PT1H
X-Robots-Tag:noindex
X-PUBLISHED-TTL:PT1H
BEGIN:VTIMEZONE
TZID:Europe/Stockholm
BEGIN:DAYLIGHT
TZOFFSETFROM:+0100
TZOFFSETTO:+0200
TZNAME:CEST
DTSTART:20200329T010000
END:DAYLIGHT
BEGIN:STANDARD
TZOFFSETFROM:+0200
TZOFFSETTO:+0100
TZNAME:CET
DTSTART:20201025T010000
END:STANDARD
BEGIN:DAYLIGHT
TZOFFSETFROM:+0100
TZOFFSETTO:+0200
TZNAME:CEST
DTSTART:20210328T010000
END:DAYLIGHT
BEGIN:STANDARD
TZOFFSETFROM:+0200
TZOFFSETTO:+0100
TZNAME:CET
DTSTART:20211031T010000
END:STANDARD
BEGIN:DAYLIGHT
TZOFFSETFROM:+0100
TZOFFSETTO:+0200
TZNAME:CEST
DTSTART:20220327T010000
END:DAYLIGHT
BEGIN:STANDARD
TZOFFSETFROM:+0200
TZOFFSETTO:+0100
TZNAME:CET
DTSTART:20221030T010000
END:STANDARD
END:VTIMEZONE
BEGIN:VEVENT
DTSTART;TZID=Europe/Stockholm:20210130T110000
DTEND;TZID=Europe/Stockholm:20210218T180000
DTSTAMP:20260422T133639
CREATED:20200311T150808Z
LAST-MODIFIED:20210104T105007Z
UID:10000045-1612004400-1613671200@gallerihantverket.se
SUMMARY:Björn Peck - Svarvat trä
DESCRIPTION:  \nI min verkstad i Täby gör jag skålar\, dosor\, fat\, sländor och mycket mer\, fritt efter äldre förebilder och linjer från naturen. \nFöremålen är formade med traditionell skärsvarvning\, en äldre teknik där järnen skär spån som ett hyvelstål i stället för att skrapa träet. På så sätt kan man svarva tunnare och med finare detaljer. \nEn avgörande skillnad är också att man med skärsvarvning kan arbeta direkt i färskt virke. Det gör det möjligt att ta tillvara trä som med moderna metoder inte skulle kunna användas eller ens torkas till användbart skick. \nOm en skål grovformas färsk kan den röra sig när den långsamt torkar och spricker därför inte. Efter några månader kan ämnet återigen sättas upp i svarven för få sin slutliga form. \n                                                                                                                                                                                                                               pelaralm från Haga                                                                                                                                                                                                              stor ask-skål                                                                                                                                                                                                              stor almskål m barkkant                                                                                                                                                                                                              dosor ask och ek                                                                                                                                                                                                              björkdosa                                                                                                                                                                                                              trekantskål med frost                                                                                                                                                                                                                                                                    \nI en storstad som Stockholm finns en skatt av träd\, av olika art och ålder\, mycket mer än i en nutida skog. Allt trä jag använder är hämtat lokalt\, bland annat från gallringar på Kungl. Djurgården. Det är stockar och trä som annars hade slängts\, eldats eller blivit till flis. \nFör mig är det centralt att hela tiden försöka se möjligheterna i det som kommer i ens väg och skaffa kunskap nog att forma det till något både funktionellt och vackert. \nDet gäller även när arbetet pågår. Att uppfatta karaktären och tillfälligheterna i ämnet och sedan anpassa linjerna och formen för att framhäva det vackra i just det stycket. \nTräslagen är mest björk\, hägg\, rönn\, alm\, lönn och gullregn. Många gånger är ämnena valda ur gamla träd där man kan uppfatta tidens gång i materialet. \nwww.bjornpeck.se\nhttps://www.instagram.com/bjorn_peck_woodworking/\nbjorn.peck@gmail.com
URL:https://gallerihantverket.se/event/bjorn-peck-svarvat-tra/
ATTACH;FMTTYPE=image/jpeg:https://gallerihantverket.se/wp-content/uploads/2020/03/vågskål-C-2_s.jpg
END:VEVENT
END:VCALENDAR