BEGIN:VCALENDAR
VERSION:2.0
PRODID:-//Galleri Hantverket - ECPv6.15.12.2//NONSGML v1.0//EN
CALSCALE:GREGORIAN
METHOD:PUBLISH
X-ORIGINAL-URL:https://gallerihantverket.se
X-WR-CALDESC:Händelser för Galleri Hantverket
REFRESH-INTERVAL;VALUE=DURATION:PT1H
X-Robots-Tag:noindex
X-PUBLISHED-TTL:PT1H
BEGIN:VTIMEZONE
TZID:Europe/Stockholm
BEGIN:DAYLIGHT
TZOFFSETFROM:+0100
TZOFFSETTO:+0200
TZNAME:CEST
DTSTART:20200329T010000
END:DAYLIGHT
BEGIN:STANDARD
TZOFFSETFROM:+0200
TZOFFSETTO:+0100
TZNAME:CET
DTSTART:20201025T010000
END:STANDARD
BEGIN:DAYLIGHT
TZOFFSETFROM:+0100
TZOFFSETTO:+0200
TZNAME:CEST
DTSTART:20210328T010000
END:DAYLIGHT
BEGIN:STANDARD
TZOFFSETFROM:+0200
TZOFFSETTO:+0100
TZNAME:CET
DTSTART:20211031T010000
END:STANDARD
BEGIN:DAYLIGHT
TZOFFSETFROM:+0100
TZOFFSETTO:+0200
TZNAME:CEST
DTSTART:20220327T010000
END:DAYLIGHT
BEGIN:STANDARD
TZOFFSETFROM:+0200
TZOFFSETTO:+0100
TZNAME:CET
DTSTART:20221030T010000
END:STANDARD
END:VTIMEZONE
BEGIN:VEVENT
DTSTART;TZID=Europe/Stockholm:20210529T110000
DTEND;TZID=Europe/Stockholm:20210819T180000
DTSTAMP:20260422T041331
CREATED:20210422T073803Z
LAST-MODIFIED:20210424T113129Z
UID:10000062-1622286000-1629396000@gallerihantverket.se
SUMMARY:Sommarutställning 2021
DESCRIPTION:Danka Jaworska\, akryl på duk \n  \n29 maj öppnar vi vår stora sommar salong  med Galleri hantverkets medlemmar.\nHär finns en mängd med olika uttryck i konst och konsthantverk.\nI sommar har vi även bjudit in gäst\, kända konstnär Danka Jaworska som visar måleri – akryl på duk.\nUtställningen pågår till 29 augusti.\nVälkommen!
URL:https://gallerihantverket.se/event/sommarutstallning-2021/
ATTACH;FMTTYPE=image/jpeg:https://gallerihantverket.se/wp-content/uploads/2021/04/Danka-Jaworska.jpg
END:VEVENT
END:VCALENDAR