BEGIN:VCALENDAR
VERSION:2.0
PRODID:-//Galleri Hantverket - ECPv6.15.12.2//NONSGML v1.0//EN
CALSCALE:GREGORIAN
METHOD:PUBLISH
X-ORIGINAL-URL:https://gallerihantverket.se
X-WR-CALDESC:Händelser för Galleri Hantverket
REFRESH-INTERVAL;VALUE=DURATION:PT1H
X-Robots-Tag:noindex
X-PUBLISHED-TTL:PT1H
BEGIN:VTIMEZONE
TZID:Europe/Stockholm
BEGIN:DAYLIGHT
TZOFFSETFROM:+0100
TZOFFSETTO:+0200
TZNAME:CEST
DTSTART:20220327T010000
END:DAYLIGHT
BEGIN:STANDARD
TZOFFSETFROM:+0200
TZOFFSETTO:+0100
TZNAME:CET
DTSTART:20221030T010000
END:STANDARD
BEGIN:DAYLIGHT
TZOFFSETFROM:+0100
TZOFFSETTO:+0200
TZNAME:CEST
DTSTART:20230326T010000
END:DAYLIGHT
BEGIN:STANDARD
TZOFFSETFROM:+0200
TZOFFSETTO:+0100
TZNAME:CET
DTSTART:20231029T010000
END:STANDARD
BEGIN:DAYLIGHT
TZOFFSETFROM:+0100
TZOFFSETTO:+0200
TZNAME:CEST
DTSTART:20240331T010000
END:DAYLIGHT
BEGIN:STANDARD
TZOFFSETFROM:+0200
TZOFFSETTO:+0100
TZNAME:CET
DTSTART:20241027T010000
END:STANDARD
END:VTIMEZONE
BEGIN:VEVENT
DTSTART;TZID=Europe/Stockholm:20230422T110000
DTEND;TZID=Europe/Stockholm:20230504T180000
DTSTAMP:20260423T151940
CREATED:20230329T071106Z
LAST-MODIFIED:20230329T071106Z
UID:10000078-1682161200-1683223200@gallerihantverket.se
SUMMARY:Petra Danielsson - Metall och Emalj
DESCRIPTION:”Silver är ett fantastiskt material\, hårt och mjukt och fantastiskt vackert\, men också strikt\, ganska krävande och ganska oförlåtande. Med glasemaljen på koppar kan jag låta en annan sorts ”happening” få råda. Jag följer inga regler och måsten. Jag lägger på ojämnt med glaspulver\, under- och överbränner\, slipar av en del och går på igen. Jag låter det som sker ske och tar emot gåvorna som jag plockar ur ugnen.” \n \nPå Galleri Hantverket visar Petra bilder\, corpus samt smyckekonst i metall och emalj. \nPetra Danielsson är född 1963 i Molkom utanför Karlstad och bosatt på Färingsö\, Ekerö. Hon är Civilingenjör Väg och vatten på KTH och arbetade som projektledare i ett 15-tal år innan hon bytte yrkesbana och utbildade sig till silversmed genom 1 år på Nyckelviksskolans Metallinje samt 4 år som lärling hos guld- och silversmedsmäster Wolfgang Gessl. En utbildning som gav en grund i hantverk och äkta material. \n \nPetra är medlem på Galleri Hantverket sedan 2020 och har tidigare ställt ut på Kaleido Konsthantverk i Uppsala\, Konsthantverkarna i Karlstad\, Sadelmakarlängan i Österbybruk m fl.
URL:https://gallerihantverket.se/event/petra-danielsson-metall-och-emalj/
ATTACH;FMTTYPE=image/jpeg:https://gallerihantverket.se/wp-content/uploads/2023/03/Image-scaled.jpeg
END:VEVENT
BEGIN:VEVENT
DTSTART;TZID=Europe/Stockholm:20230506T110000
DTEND;TZID=Europe/Stockholm:20230525T180000
DTSTAMP:20260423T151940
CREATED:20230415T093815Z
LAST-MODIFIED:20230415T094905Z
UID:10000079-1683370800-1685037600@gallerihantverket.se
SUMMARY:Lars Kolsrud - Stillsamma lekar
DESCRIPTION:Jag har arbetat som konstnär i många år\, och har under alla dessa år känt ett\nstort intresse för det lekande draget inom oss människor.\nHär har jag drivit detta ännu lite längre än tidigare – även om jag tillåtit ett visst\nallvar att här och där smyga sin in bilderna.\nDessa arbeten har för min del inneburit lite mer av hantverk – i gängse mening –\nän jag tidigare använt mig av.\nDärför känns det extra kul att få möjlighet att ställa ut på ett galleri som så\ntydligt betonar denna del av den konstnärliga processen. \nCV
URL:https://gallerihantverket.se/event/lars-kolsrud/
CATEGORIES:Exhibitions
ATTACH;FMTTYPE=image/jpeg:https://gallerihantverket.se/wp-content/uploads/2023/04/hantverket-03.jpeg
END:VEVENT
BEGIN:VEVENT
DTSTART;TZID=Europe/Stockholm:20230527T110000
DTEND;TZID=Europe/Stockholm:20230817T180000
DTSTAMP:20260423T151940
CREATED:20230415T095035Z
LAST-MODIFIED:20230501T180451Z
UID:10000080-1685185200-1692295200@gallerihantverket.se
SUMMARY:Sommarutställning
DESCRIPTION:I vanlig ordning tar medlemmarna över hela galleriet för att ni ska få se en del av det som annars inte kan visas av våra produktioner. Varmt välkomna
URL:https://gallerihantverket.se/event/sommarutstallning/
ATTACH;FMTTYPE=image/jpeg:https://gallerihantverket.se/wp-content/uploads/2023/04/sommar-scaled.jpg
END:VEVENT
END:VCALENDAR