BEGIN:VCALENDAR
VERSION:2.0
PRODID:-//Galleri Hantverket - ECPv6.15.12.2//NONSGML v1.0//EN
CALSCALE:GREGORIAN
METHOD:PUBLISH
X-WR-CALNAME:Galleri Hantverket
X-ORIGINAL-URL:https://gallerihantverket.se
X-WR-CALDESC:Händelser för Galleri Hantverket
REFRESH-INTERVAL;VALUE=DURATION:PT1H
X-Robots-Tag:noindex
X-PUBLISHED-TTL:PT1H
BEGIN:VTIMEZONE
TZID:Europe/Stockholm
BEGIN:DAYLIGHT
TZOFFSETFROM:+0100
TZOFFSETTO:+0200
TZNAME:CEST
DTSTART:20220327T010000
END:DAYLIGHT
BEGIN:STANDARD
TZOFFSETFROM:+0200
TZOFFSETTO:+0100
TZNAME:CET
DTSTART:20221030T010000
END:STANDARD
BEGIN:DAYLIGHT
TZOFFSETFROM:+0100
TZOFFSETTO:+0200
TZNAME:CEST
DTSTART:20230326T010000
END:DAYLIGHT
BEGIN:STANDARD
TZOFFSETFROM:+0200
TZOFFSETTO:+0100
TZNAME:CET
DTSTART:20231029T010000
END:STANDARD
BEGIN:DAYLIGHT
TZOFFSETFROM:+0100
TZOFFSETTO:+0200
TZNAME:CEST
DTSTART:20240331T010000
END:DAYLIGHT
BEGIN:STANDARD
TZOFFSETFROM:+0200
TZOFFSETTO:+0100
TZNAME:CET
DTSTART:20241027T010000
END:STANDARD
END:VTIMEZONE
BEGIN:VEVENT
DTSTART;TZID=Europe/Stockholm:20230527T110000
DTEND;TZID=Europe/Stockholm:20230817T180000
DTSTAMP:20260423T133626
CREATED:20230415T095035Z
LAST-MODIFIED:20230501T180451Z
UID:10000080-1685185200-1692295200@gallerihantverket.se
SUMMARY:Sommarutställning
DESCRIPTION:I vanlig ordning tar medlemmarna över hela galleriet för att ni ska få se en del av det som annars inte kan visas av våra produktioner. Varmt välkomna
URL:https://gallerihantverket.se/event/sommarutstallning/
ATTACH;FMTTYPE=image/jpeg:https://gallerihantverket.se/wp-content/uploads/2023/04/sommar-scaled.jpg
END:VEVENT
END:VCALENDAR