BEGIN:VCALENDAR
VERSION:2.0
PRODID:-//Galleri Hantverket - ECPv6.15.12.2//NONSGML v1.0//EN
CALSCALE:GREGORIAN
METHOD:PUBLISH
X-WR-CALNAME:Galleri Hantverket
X-ORIGINAL-URL:https://gallerihantverket.se
X-WR-CALDESC:Händelser för Galleri Hantverket
REFRESH-INTERVAL;VALUE=DURATION:PT1H
X-Robots-Tag:noindex
X-PUBLISHED-TTL:PT1H
BEGIN:VTIMEZONE
TZID:Europe/Stockholm
BEGIN:DAYLIGHT
TZOFFSETFROM:+0100
TZOFFSETTO:+0200
TZNAME:CEST
DTSTART:20220327T010000
END:DAYLIGHT
BEGIN:STANDARD
TZOFFSETFROM:+0200
TZOFFSETTO:+0100
TZNAME:CET
DTSTART:20221030T010000
END:STANDARD
BEGIN:DAYLIGHT
TZOFFSETFROM:+0100
TZOFFSETTO:+0200
TZNAME:CEST
DTSTART:20230326T010000
END:DAYLIGHT
BEGIN:STANDARD
TZOFFSETFROM:+0200
TZOFFSETTO:+0100
TZNAME:CET
DTSTART:20231029T010000
END:STANDARD
BEGIN:DAYLIGHT
TZOFFSETFROM:+0100
TZOFFSETTO:+0200
TZNAME:CEST
DTSTART:20240331T010000
END:DAYLIGHT
BEGIN:STANDARD
TZOFFSETFROM:+0200
TZOFFSETTO:+0100
TZNAME:CET
DTSTART:20241027T010000
END:STANDARD
END:VTIMEZONE
BEGIN:VEVENT
DTSTART;TZID=Europe/Stockholm:20230930T110000
DTEND;TZID=Europe/Stockholm:20231012T180000
DTSTAMP:20260423T063559
CREATED:20230415T095623Z
LAST-MODIFIED:20230919T190548Z
UID:10000013-1696071600-1697133600@gallerihantverket.se
SUMMARY:Ninni Elmdahl - Skaparglädje
DESCRIPTION:Mina idéer infinner sig ofta vid skissande och målande i naturen. Den slutliga produkten skapas när jag genom diverse hantverksmässiga tekniker lyckas tolka eller vidare utveckla ursprungsidén. Detta främst i mitt huvudmaterial metallen. Jag använder mig ofta av koppar och dess legeringar\, gärna i kombination med betong och trä. I dessa material skapar jag bilder och skulpturer för hem och offentlig miljö. \nCV
URL:https://gallerihantverket.se/event/ninni-elmdahl/
ATTACH;FMTTYPE=image/jpeg:https://gallerihantverket.se/wp-content/uploads/2023/04/Krakan.jpg
END:VEVENT
BEGIN:VEVENT
DTSTART;TZID=Europe/Stockholm:20231014T110000
DTEND;TZID=Europe/Stockholm:20231102T180000
DTSTAMP:20260423T063559
CREATED:20230415T095757Z
LAST-MODIFIED:20240109T100418Z
UID:10000014-1697281200-1698948000@gallerihantverket.se
SUMMARY:Lars Malm - Resumé
DESCRIPTION:Lars Malms sjunde utställning ”Resumé” på Galleri Hantverket är en återblick på hans skapande genom åren.\nMycket av det han gjort tidigare gör han fortfarande men med vissa förändringar. Hans signum är träskåpen med skulpturala inslag. Ibland kompletterar han med metall och gärna rostig plåt. Han jobbar med lövträd som lönn\, ek och alm. Skulpturerna är mest gjorda i al. \nLars har utfört konstnärliga utsmyckningar i trä för offentlig och privat miljö.
URL:https://gallerihantverket.se/event/lars-malm/
CATEGORIES:Exhibitions
ATTACH;FMTTYPE=image/jpeg:https://gallerihantverket.se/wp-content/uploads/2023/04/LM-8-scaled.jpg
END:VEVENT
END:VCALENDAR