BEGIN:VCALENDAR
VERSION:2.0
PRODID:-//Galleri Hantverket - ECPv6.15.12.2//NONSGML v1.0//EN
CALSCALE:GREGORIAN
METHOD:PUBLISH
X-WR-CALNAME:Galleri Hantverket
X-ORIGINAL-URL:https://gallerihantverket.se
X-WR-CALDESC:Händelser för Galleri Hantverket
REFRESH-INTERVAL;VALUE=DURATION:PT1H
X-Robots-Tag:noindex
X-PUBLISHED-TTL:PT1H
BEGIN:VTIMEZONE
TZID:Europe/Stockholm
BEGIN:DAYLIGHT
TZOFFSETFROM:+0100
TZOFFSETTO:+0200
TZNAME:CEST
DTSTART:20220327T010000
END:DAYLIGHT
BEGIN:STANDARD
TZOFFSETFROM:+0200
TZOFFSETTO:+0100
TZNAME:CET
DTSTART:20221030T010000
END:STANDARD
BEGIN:DAYLIGHT
TZOFFSETFROM:+0100
TZOFFSETTO:+0200
TZNAME:CEST
DTSTART:20230326T010000
END:DAYLIGHT
BEGIN:STANDARD
TZOFFSETFROM:+0200
TZOFFSETTO:+0100
TZNAME:CET
DTSTART:20231029T010000
END:STANDARD
BEGIN:DAYLIGHT
TZOFFSETFROM:+0100
TZOFFSETTO:+0200
TZNAME:CEST
DTSTART:20240331T010000
END:DAYLIGHT
BEGIN:STANDARD
TZOFFSETFROM:+0200
TZOFFSETTO:+0100
TZNAME:CET
DTSTART:20241027T010000
END:STANDARD
BEGIN:DAYLIGHT
TZOFFSETFROM:+0100
TZOFFSETTO:+0200
TZNAME:CEST
DTSTART:20250330T010000
END:DAYLIGHT
BEGIN:STANDARD
TZOFFSETFROM:+0200
TZOFFSETTO:+0100
TZNAME:CET
DTSTART:20251026T010000
END:STANDARD
END:VTIMEZONE
BEGIN:VEVENT
DTSTART;TZID=Europe/Stockholm:20231125T110000
DTEND;TZID=Europe/Stockholm:20240104T180000
DTSTAMP:20260423T011528
CREATED:20230415T100228Z
LAST-MODIFIED:20240109T095327Z
UID:10000016-1700910000-1704391200@gallerihantverket.se
SUMMARY:Julutställning
DESCRIPTION:Jul på Galleri Hantverket \nVälkomna lördag den 25 november
URL:https://gallerihantverket.se/event/julutstallning-3/
CATEGORIES:Exhibitions
ATTACH;FMTTYPE=image/png:https://gallerihantverket.se/wp-content/uploads/2023/04/hantverket-jul.png
END:VEVENT
BEGIN:VEVENT
DTSTART;TZID=Europe/Stockholm:20240106T110000
DTEND;TZID=Europe/Stockholm:20240125T180000
DTSTAMP:20260423T011528
CREATED:20231113T151020Z
LAST-MODIFIED:20240109T085540Z
UID:10000017-1704538800-1706205600@gallerihantverket.se
SUMMARY:Gitte Lind - Characters
DESCRIPTION:Vi är alla aktörer på livets scen och likt en kostymör skapar jag olika karaktärer. Inspirationen kommer från människor jag ser och möter. Jag är intresserad av de uttryck vi människor använder oss av för att synliggöra våra personligheter\, våra ideologier och vår kultur.\nInom kulturens värld tillåts uttrycken att bli både lekfulla\, fantasifulla och ibland extrema och vi får leka vuxenlekar. Så är också mitt skapande frukten av en vuxenlek där olika karaktärer får träda fram. \n\n			\n				\n			\n			\n				\n			\n			\n				\n			\n			\n				\n			\n			\n				\n			\n			\n				\n			\n			\n				\n			\n		\n\nMitt material är leran men ofta blandar jag även in delar av metall och trä. Min pappa var keramiker\, eller krukmakare som han själv ville titulera sig. Det var av honom jag lärde mig grunderna i det keramiska hantverket. Redan som barn tillbringade jag många timmar i min pappas verkstad med att skulptera eller att öva mig vid drejskivan. Under många år arbetade jag främst med tillverkning av drejat bruksgods i serieproduktion men efter hand har lusten att skulptera vägt över och numera arbetar jag enbart skulpturalt med unika föremål. Jag har varit yrkesverksam keramiker sedan 1988 och har sedan 1998 bedrivit min verksamhet i egen verkstad i Åfors\, mitt i det småländska ”Glasriket”.
URL:https://gallerihantverket.se/event/gitte-lind-characters/
CATEGORIES:Exhibitions
ATTACH;FMTTYPE=image/jpeg:https://gallerihantverket.se/wp-content/uploads/2023/11/Simora.jpg
END:VEVENT
BEGIN:VEVENT
DTSTART;TZID=Europe/Stockholm:20240127T110000
DTEND;TZID=Europe/Stockholm:20240215T180000
DTSTAMP:20260423T011528
CREATED:20231113T152724Z
LAST-MODIFIED:20240109T085746Z
UID:10000018-1706353200-1708020000@gallerihantverket.se
SUMMARY:Andrzej Olas - Oljemåleri
DESCRIPTION:Född 1964\nI mitt måleri försöker jag fånga minnen\, stämningar i det förflutna\, innan de förvanskas eller upplöses. Söker ljuset i mellanfärger och nyanser där bildvärld uppstår – se ett landskap och uppleva en närvaro. Jag är bosatt Stockholm sedan 1986\, arbetar helst i stora format med olja\, torrpastell och även akvarell. När jag målar är musik\, mestadels klassisk och ”sjungen poesi” min främsta inspirationskälla.\nJag jobbar även som Art Director och illustratör.
URL:https://gallerihantverket.se/event/andrzej-olas-2/
CATEGORIES:Exhibitions
ATTACH;FMTTYPE=image/jpeg:https://gallerihantverket.se/wp-content/uploads/2023/11/gulfalt-72dpi.jpg
END:VEVENT
END:VCALENDAR