BEGIN:VCALENDAR
VERSION:2.0
PRODID:-//Galleri Hantverket - ECPv6.15.12.2//NONSGML v1.0//EN
CALSCALE:GREGORIAN
METHOD:PUBLISH
X-ORIGINAL-URL:https://gallerihantverket.se
X-WR-CALDESC:Händelser för Galleri Hantverket
REFRESH-INTERVAL;VALUE=DURATION:PT1H
X-Robots-Tag:noindex
X-PUBLISHED-TTL:PT1H
BEGIN:VTIMEZONE
TZID:Europe/Stockholm
BEGIN:DAYLIGHT
TZOFFSETFROM:+0100
TZOFFSETTO:+0200
TZNAME:CEST
DTSTART:20230326T010000
END:DAYLIGHT
BEGIN:STANDARD
TZOFFSETFROM:+0200
TZOFFSETTO:+0100
TZNAME:CET
DTSTART:20231029T010000
END:STANDARD
BEGIN:DAYLIGHT
TZOFFSETFROM:+0100
TZOFFSETTO:+0200
TZNAME:CEST
DTSTART:20240331T010000
END:DAYLIGHT
BEGIN:STANDARD
TZOFFSETFROM:+0200
TZOFFSETTO:+0100
TZNAME:CET
DTSTART:20241027T010000
END:STANDARD
BEGIN:DAYLIGHT
TZOFFSETFROM:+0100
TZOFFSETTO:+0200
TZNAME:CEST
DTSTART:20250330T010000
END:DAYLIGHT
BEGIN:STANDARD
TZOFFSETFROM:+0200
TZOFFSETTO:+0100
TZNAME:CET
DTSTART:20251026T010000
END:STANDARD
END:VTIMEZONE
BEGIN:VEVENT
DTSTART;TZID=Europe/Stockholm:20240824T110000
DTEND;TZID=Europe/Stockholm:20240912T180000
DTSTAMP:20260420T104652
CREATED:20240513T072823Z
LAST-MODIFIED:20240902T080148Z
UID:10000086-1724497200-1726164000@gallerihantverket.se
SUMMARY:Göran Ahlberg
DESCRIPTION:Varför formge och själv tillverka en möbel som någon eventuellt ska finna tillräckligt intressant för att köpa?\nAllt man företar sig är pusselbitar i den bild man lägger av sig själv under livets gång. I formgivandet – i skapandet – i den kreativa processen får jag hjälp. Att bli till.\nBåde skåpet och jag blir till genom varandra. \nJag har arbetat med olika skapande uttryck de senaste 25 åren. Förutom möbler har det varit skulptur\, poesi och fotografi. Men jag har med tiden insett att jag är mer hantverkare än konstnär\, så nuförtiden är det mest möbelmakeri jag ägnar mig åt. Förutom ett par år på folkhögskola i tidernas begynnelse är jag\nhelt autodidakt. \n  \n  \n2017 Utställning på Kulturverkstaden K-ringen\, Motala.\n2019 Uppförande av skulpturen “Hemisfär” på Stora Torget i Vadstena på beställning av Vadstena Kommun.\n2019 Medverkan i Vadstena Konstmässa. Jurybedömd.\n2020 Löfska stiftelsens stipendium\, 25.000:-\n2021 Vadstena Kommuns stipendium\, 25.000:- \n\n			\n				\n			\n			\n				\n			\n			\n				\n			\n		\n\n 
URL:https://gallerihantverket.se/event/goran-ahlberg/
CATEGORIES:Exhibitions
ATTACH;FMTTYPE=image/jpeg:https://gallerihantverket.se/wp-content/uploads/2024/04/G_prod1.jpg
END:VEVENT
BEGIN:VEVENT
DTSTART;TZID=Europe/Stockholm:20240914T110000
DTEND;TZID=Europe/Stockholm:20241003T180000
DTSTAMP:20260420T104652
CREATED:20240429T162042Z
LAST-MODIFIED:20240902T075636Z
UID:10000085-1726311600-1727978400@gallerihantverket.se
SUMMARY:Catharina Bauer "Mina rum"
DESCRIPTION:Jag målar gärna stort och färgstarkt\, oftast i akryl. Inspiration finner jag i miljöer\, både interiörer och exteriörer\, naturliga eller konstruerade. Det handlar om mina inre rum som då och då får sällskap av figurer. \n \nCatharina Bauer är yrkesverksam som konstnär. I sitt måleri arbetar hon i olika tekniker\, men oftast i akryl och blandteknik.  Motiven är till stor del abstrakta\, och ofta med öppningar i bildrummet där djup\, ytor och grafiska element möts i en rik kolorit. Inspiration hämtas lite varstans ifrån och intresset är stort för miljöer\, både interiörer och exteriörer\, konstruerade och naturliga. \nUnder åren har hon haft många separatutställningar och har deltagit i diverse grupp- och jurybedömda utställningar samt är offentligt representerad på Elite Adlon Hotel\, Sophiahemmet\, Röda Korsets sjukhus\, Ersta Hospice och CEREB. \nKonstnären själv: ”- Att måla är mitt självklara uttrycksmedel\, och några av dygnets bästa timmar är helt klart i ateljén under processerna med mina dukar – normalt två eller fler på gång samtidigt.  Tiden vid staffliet eller helst en stor duk direkt på väggen är intensivt arbete. Efteråt kan jag bli förvånad över vad jag målat\, hur mina olika idéer funnit sin väg till duken\, var inspirationen kommit från just här etc. Jag antar att jag utforskar mina inre landskap – ofta ganska abstrakt\, men man kan säga att jag ”bygger bild” på ett nästan arkitektoniskt vis och ibland dyker även figurer upp.”
URL:https://gallerihantverket.se/event/catharina-bauer-mina-rum/
CATEGORIES:Exhibitions
ATTACH;FMTTYPE=image/jpeg:https://gallerihantverket.se/wp-content/uploads/2024/04/Ny-triptyk-e1715933479290.jpg
END:VEVENT
END:VCALENDAR