BEGIN:VCALENDAR
VERSION:2.0
PRODID:-//Galleri Hantverket - ECPv6.15.12.2//NONSGML v1.0//EN
CALSCALE:GREGORIAN
METHOD:PUBLISH
X-ORIGINAL-URL:https://gallerihantverket.se
X-WR-CALDESC:Händelser för Galleri Hantverket
REFRESH-INTERVAL;VALUE=DURATION:PT1H
X-Robots-Tag:noindex
X-PUBLISHED-TTL:PT1H
BEGIN:VTIMEZONE
TZID:Europe/Stockholm
BEGIN:DAYLIGHT
TZOFFSETFROM:+0100
TZOFFSETTO:+0200
TZNAME:CEST
DTSTART:20230326T010000
END:DAYLIGHT
BEGIN:STANDARD
TZOFFSETFROM:+0200
TZOFFSETTO:+0100
TZNAME:CET
DTSTART:20231029T010000
END:STANDARD
BEGIN:DAYLIGHT
TZOFFSETFROM:+0100
TZOFFSETTO:+0200
TZNAME:CEST
DTSTART:20240331T010000
END:DAYLIGHT
BEGIN:STANDARD
TZOFFSETFROM:+0200
TZOFFSETTO:+0100
TZNAME:CET
DTSTART:20241027T010000
END:STANDARD
BEGIN:DAYLIGHT
TZOFFSETFROM:+0100
TZOFFSETTO:+0200
TZNAME:CEST
DTSTART:20250330T010000
END:DAYLIGHT
BEGIN:STANDARD
TZOFFSETFROM:+0200
TZOFFSETTO:+0100
TZNAME:CET
DTSTART:20251026T010000
END:STANDARD
BEGIN:DAYLIGHT
TZOFFSETFROM:+0100
TZOFFSETTO:+0200
TZNAME:CEST
DTSTART:20260329T010000
END:DAYLIGHT
BEGIN:STANDARD
TZOFFSETFROM:+0200
TZOFFSETTO:+0100
TZNAME:CET
DTSTART:20261025T010000
END:STANDARD
END:VTIMEZONE
BEGIN:VEVENT
DTSTART;TZID=Europe/Stockholm:20241026T110000
DTEND;TZID=Europe/Stockholm:20241107T180000
DTSTAMP:20260420T070659
CREATED:20240923T071406Z
LAST-MODIFIED:20240923T071406Z
UID:10000088-1729940400-1731002400@gallerihantverket.se
SUMMARY:Peter Gunnars - Osorterat liv
DESCRIPTION:Vad som kommer ut ur min kamera styrs av vad jag ser och upplever vare sig det är en ko eller ett gammalt lok\, objektet är underordnat tillfället och uttrycket . Nyfikenhet och envishet är stora ledord i mitt skapande.
URL:https://gallerihantverket.se/event/peter-gunnars-osorteratliv/
ATTACH;FMTTYPE=image/jpeg:https://gallerihantverket.se/wp-content/uploads/2024/09/thumbnail_Portrait-of-a-cow_rod100x100_web.jpg
END:VEVENT
BEGIN:VEVENT
DTSTART;TZID=Europe/Stockholm:20241109T110000
DTEND;TZID=Europe/Stockholm:20241128T180000
DTSTAMP:20260420T070659
CREATED:20240923T073144Z
LAST-MODIFIED:20241031T080354Z
UID:10000089-1731150000-1732816800@gallerihantverket.se
SUMMARY:Carl Wellander - Mänskligt
DESCRIPTION:Skogens konung mot Näcken\, Björnen mot Marans ostoppbara närvaro\, Rävens språng mot Bäckahästens svall. Vilka segrar? \n\n			\n				\n			\n			\n				\n			\n			\n				\n			\n		\n\nUtställningen innehåller keramiska original och resultat från ett utforskande arbete i brons och aluminium som i sig ger unika uttryck. I ett tidevarv där mycket av det som vi människor gör kan ersättas av automatiserade processer återstår ändå tillfredställelsen av att faktiskt göra det själv. Det får ta tid. Och det är verkligen resan som är värdet.
URL:https://gallerihantverket.se/event/carl-wellander-manskligt/
ATTACH;FMTTYPE=image/jpeg:https://gallerihantverket.se/wp-content/uploads/2024/10/Manskligt_A.jpg
END:VEVENT
BEGIN:VEVENT
DTSTART;TZID=Europe/Stockholm:20241130T110000
DTEND;TZID=Europe/Stockholm:20250108T180000
DTSTAMP:20260420T070659
CREATED:20240923T073237Z
LAST-MODIFIED:20241125T092838Z
UID:10000090-1732964400-1736359200@gallerihantverket.se
SUMMARY:Julutställning
DESCRIPTION:En samlingsutställning med Galleri Hantverkets medlemmar.\nHos oss hittar du fina  julklappar i form av smycke\, bruksföremål\, skulptur och måleri.\nVälkommen in!\n\n\n\n			\n				\n			\n			\n				\n			\n			\n				\n			\n			\n				\n			\n				\n				Oplus_1179680\n				\n			\n				\n			\n				\n				Oplus_1179680\n				\n			\n				\n			\n				\n				Oplus_1179680\n				\n			\n				\n			\n			\n				\n			\n				\n				Oplus_1179680\n				\n			\n				\n			\n			\n				\n			\n				\n				oplus_1048608\n				\n			\n				\n			\n				\n				oplus_1048608\n				\n			\n				\n			\n				\n				oplus_1048608\n				\n			\n				\n			\n				\n				oplus_1048608\n				\n			\n				\n			\n			\n				\n			\n				\n				Oplus_1179680
URL:https://gallerihantverket.se/event/julutstallning-4/
CATEGORIES:Exhibitions
ATTACH;FMTTYPE=image/jpeg:https://gallerihantverket.se/wp-content/uploads/2024/09/Julbild2024.jpg
END:VEVENT
END:VCALENDAR